BEGIN:VCALENDAR
VERSION:2.0
PRODID:-//Avon-Heathcote Estuary Trust - ECPv6.15.20//NONSGML v1.0//EN
CALSCALE:GREGORIAN
METHOD:PUBLISH
X-ORIGINAL-URL:https://estuary.org.nz
X-WR-CALDESC:Events for Avon-Heathcote Estuary Trust
REFRESH-INTERVAL;VALUE=DURATION:PT1H
X-Robots-Tag:noindex
X-PUBLISHED-TTL:PT1H
BEGIN:VTIMEZONE
TZID:Pacific/Auckland
BEGIN:STANDARD
TZOFFSETFROM:+1300
TZOFFSETTO:+1200
TZNAME:NZST
DTSTART:20240406T140000
END:STANDARD
BEGIN:DAYLIGHT
TZOFFSETFROM:+1200
TZOFFSETTO:+1300
TZNAME:NZDT
DTSTART:20240928T140000
END:DAYLIGHT
BEGIN:STANDARD
TZOFFSETFROM:+1300
TZOFFSETTO:+1200
TZNAME:NZST
DTSTART:20250405T140000
END:STANDARD
BEGIN:DAYLIGHT
TZOFFSETFROM:+1200
TZOFFSETTO:+1300
TZNAME:NZDT
DTSTART:20250927T140000
END:DAYLIGHT
BEGIN:STANDARD
TZOFFSETFROM:+1300
TZOFFSETTO:+1200
TZNAME:NZST
DTSTART:20260404T140000
END:STANDARD
BEGIN:DAYLIGHT
TZOFFSETFROM:+1200
TZOFFSETTO:+1300
TZNAME:NZDT
DTSTART:20260926T140000
END:DAYLIGHT
END:VTIMEZONE
BEGIN:VEVENT
DTSTART;TZID=Pacific/Auckland:20250308T140000
DTEND;TZID=Pacific/Auckland:20250308T160000
DTSTAMP:20260423T145626
CREATED:20250204T222401Z
LAST-MODIFIED:20250207T005610Z
UID:2030-1741442400-1741449600@estuary.org.nz
SUMMARY:Coastal Pathway Walk
DESCRIPTION:  \n  \nEstuary Edge Walk 2025 \nCoastal Walk along the Estuary. \nMeet at Beachville Road Reserve (in front of Redcliffs School) and walk to Sumner. \nEstuary experts along the way to provide information. \nFREE  –  SPOT PRIZES – suitable all ages. \nTake the bus back to starting point or just walk back. \nOrganised by the Estuary Trust – Coastal Pathway Group and the Envirohub \nRegister to info@estuary.org.nz   stating your name and how many will be in your group \n  \n  \n 
URL:https://estuary.org.nz/event/coastal-pathway-walk/
END:VEVENT
END:VCALENDAR