BEGIN:VCALENDAR
VERSION:2.0
PRODID:-//Avon-Heathcote Estuary Trust - ECPv6.15.20//NONSGML v1.0//EN
CALSCALE:GREGORIAN
METHOD:PUBLISH
X-WR-CALNAME:Avon-Heathcote Estuary Trust
X-ORIGINAL-URL:https://estuary.org.nz
X-WR-CALDESC:Events for Avon-Heathcote Estuary Trust
REFRESH-INTERVAL;VALUE=DURATION:PT1H
X-Robots-Tag:noindex
X-PUBLISHED-TTL:PT1H
BEGIN:VTIMEZONE
TZID:Pacific/Auckland
BEGIN:STANDARD
TZOFFSETFROM:+1300
TZOFFSETTO:+1200
TZNAME:NZST
DTSTART:20250405T140000
END:STANDARD
BEGIN:DAYLIGHT
TZOFFSETFROM:+1200
TZOFFSETTO:+1300
TZNAME:NZDT
DTSTART:20250927T140000
END:DAYLIGHT
BEGIN:STANDARD
TZOFFSETFROM:+1300
TZOFFSETTO:+1200
TZNAME:NZST
DTSTART:20260404T140000
END:STANDARD
BEGIN:DAYLIGHT
TZOFFSETFROM:+1200
TZOFFSETTO:+1300
TZNAME:NZDT
DTSTART:20260926T140000
END:DAYLIGHT
BEGIN:STANDARD
TZOFFSETFROM:+1300
TZOFFSETTO:+1200
TZNAME:NZST
DTSTART:20270403T140000
END:STANDARD
BEGIN:DAYLIGHT
TZOFFSETFROM:+1200
TZOFFSETTO:+1300
TZNAME:NZDT
DTSTART:20270925T140000
END:DAYLIGHT
END:VTIMEZONE
BEGIN:VEVENT
DTSTART;TZID=Pacific/Auckland:20260221T140000
DTEND;TZID=Pacific/Auckland:20260221T160000
DTSTAMP:20260421T062414
CREATED:20230915T040811Z
LAST-MODIFIED:20260211T032350Z
UID:693-1771682400-1771689600@estuary.org.nz
SUMMARY:South New Brighton Park Working session
DESCRIPTION:Meet on the third Saturday of each month. \nNo need to book\, just show up. Come for a one off or as often as you like. \nWe’ll be doing tasks like weeding\, pruning and mulching to help young plants thrive and to enhance the estuarine edge. At certain times of the year we will also be planting. \nTools\, gloves and hot drink provided. Please wear closed toe shoes. \nMeet by the picnic table on Bridge Street. \nNext time\, we meet at the Jetty carpark. Estuary end of Beatty Street. Past the playground and drive to the edge of the estuary. \nNo need to book. All welcome.
URL:https://estuary.org.nz/event/south-new-brighton-park-working-session/
LOCATION:Bridge Street entrance to the park
CATEGORIES:All Events
ORGANIZER;CN="Estuary Trust":MAILTO:info@estuary.org.nz
END:VEVENT
BEGIN:VEVENT
DTSTART;TZID=Pacific/Auckland:20260222T150000
DTEND;TZID=Pacific/Auckland:20260222T170000
DTSTAMP:20260421T062414
CREATED:20260104T020021Z
LAST-MODIFIED:20260211T031546Z
UID:2467-1771772400-1771779600@estuary.org.nz
SUMMARY:Charlesworth Wetland Working Sessions
DESCRIPTION:Anyone welcome\, no need to book! Come for a one off or as often as you like. \nVolunteers meet EVERY SUNDAY AFTERNOON between 3 and 5pm. \nMeet at the carpark off Charlesworth Street. \nTools and gloves\, good company  plus refreshments provided. Please wear closed toe shoes. \nSince 2005 over 140\,000 native plants have been placed by volunteers with support from the Christchurch City Council Ranger Team. \nOver 20 ha of farm paddock has been restored to a functional ecological coastal wetland. \nThese plants\, especially young seedlings need regular weeding\, pruning and mulching along with seasonal planting.
URL:https://estuary.org.nz/event/charlesworth-wetland-restoration/
CATEGORIES:All Events
ORGANIZER;CN="Estuary Trust":MAILTO:info@estuary.org.nz
END:VEVENT
BEGIN:VEVENT
DTSTART;TZID=Pacific/Auckland:20260228T130000
DTEND;TZID=Pacific/Auckland:20260228T150000
DTSTAMP:20260421T062414
CREATED:20231219T085752Z
LAST-MODIFIED:20250711T050225Z
UID:987-1772283600-1772290800@estuary.org.nz
SUMMARY:Annual 'Farewell to the Godwits' Ceremony 2026
DESCRIPTION:Annual Farewell to the godwits ceremony \nto “Wish the Godwits a safe return to their breeding grounds in Alaska”\nSaturday\, 28 February 2026\nSouthshore Spit Reserve (at the very end of Rockinghorse Road) \n1pm FREE BBQ sausages\, music\, info stalls \n1.30pm   Welcome\, followed by guided short walk to view the birds up close \nSuitable all ages but please leave the dog at home.
URL:https://estuary.org.nz/event/annual-farewell-to-the-godwits-ceremony-2024/
CATEGORIES:All Events
END:VEVENT
END:VCALENDAR