BEGIN:VCALENDAR
VERSION:2.0
PRODID:-//Avon-Heathcote Estuary Trust - ECPv6.15.20//NONSGML v1.0//EN
CALSCALE:GREGORIAN
METHOD:PUBLISH
X-ORIGINAL-URL:https://estuary.org.nz
X-WR-CALDESC:Events for Avon-Heathcote Estuary Trust
REFRESH-INTERVAL;VALUE=DURATION:PT1H
X-Robots-Tag:noindex
X-PUBLISHED-TTL:PT1H
BEGIN:VTIMEZONE
TZID:Pacific/Auckland
BEGIN:STANDARD
TZOFFSETFROM:+1300
TZOFFSETTO:+1200
TZNAME:NZST
DTSTART:20250405T140000
END:STANDARD
BEGIN:DAYLIGHT
TZOFFSETFROM:+1200
TZOFFSETTO:+1300
TZNAME:NZDT
DTSTART:20250927T140000
END:DAYLIGHT
BEGIN:STANDARD
TZOFFSETFROM:+1300
TZOFFSETTO:+1200
TZNAME:NZST
DTSTART:20260404T140000
END:STANDARD
BEGIN:DAYLIGHT
TZOFFSETFROM:+1200
TZOFFSETTO:+1300
TZNAME:NZDT
DTSTART:20260926T140000
END:DAYLIGHT
BEGIN:STANDARD
TZOFFSETFROM:+1300
TZOFFSETTO:+1200
TZNAME:NZST
DTSTART:20270403T140000
END:STANDARD
BEGIN:DAYLIGHT
TZOFFSETFROM:+1200
TZOFFSETTO:+1300
TZNAME:NZDT
DTSTART:20270925T140000
END:DAYLIGHT
END:VTIMEZONE
BEGIN:VEVENT
DTSTART;TZID=Pacific/Auckland:20260118T140000
DTEND;TZID=Pacific/Auckland:20260118T160000
DTSTAMP:20260421T092755
CREATED:20230915T041251Z
LAST-MODIFIED:20260105T023314Z
UID:698-1768744800-1768752000@estuary.org.nz
SUMMARY:McCormacks Bay Restoration Working Session
DESCRIPTION:Can you spare a few hours to assist a group of  local residents to restore and enhance this stunning little Bay. \nTools and hot drink provided \nNo need to book.  Look out for cars  parked along McCormack’s Bay Road as that is where we will planting\, weeding\, mulching or pruning.
URL:https://estuary.org.nz/event/mccormacks-bay-restoration-working-session/
CATEGORIES:All Events
ORGANIZER;CN="Estuary Trust":MAILTO:info@estuary.org.nz
END:VEVENT
END:VCALENDAR