BEGIN:VCALENDAR
VERSION:2.0
PRODID:-//Avon-Heathcote Estuary Trust - ECPv6.15.20//NONSGML v1.0//EN
CALSCALE:GREGORIAN
METHOD:PUBLISH
X-ORIGINAL-URL:https://estuary.org.nz
X-WR-CALDESC:Events for Avon-Heathcote Estuary Trust
REFRESH-INTERVAL;VALUE=DURATION:PT1H
X-Robots-Tag:noindex
X-PUBLISHED-TTL:PT1H
BEGIN:VTIMEZONE
TZID:Pacific/Auckland
BEGIN:STANDARD
TZOFFSETFROM:+1300
TZOFFSETTO:+1200
TZNAME:NZST
DTSTART:20240406T140000
END:STANDARD
BEGIN:DAYLIGHT
TZOFFSETFROM:+1200
TZOFFSETTO:+1300
TZNAME:NZDT
DTSTART:20240928T140000
END:DAYLIGHT
BEGIN:STANDARD
TZOFFSETFROM:+1300
TZOFFSETTO:+1200
TZNAME:NZST
DTSTART:20250405T140000
END:STANDARD
BEGIN:DAYLIGHT
TZOFFSETFROM:+1200
TZOFFSETTO:+1300
TZNAME:NZDT
DTSTART:20250927T140000
END:DAYLIGHT
BEGIN:STANDARD
TZOFFSETFROM:+1300
TZOFFSETTO:+1200
TZNAME:NZST
DTSTART:20260404T140000
END:STANDARD
BEGIN:DAYLIGHT
TZOFFSETFROM:+1200
TZOFFSETTO:+1300
TZNAME:NZDT
DTSTART:20260926T140000
END:DAYLIGHT
END:VTIMEZONE
BEGIN:VEVENT
DTSTART;TZID=Pacific/Auckland:20250925T193000
DTEND;TZID=Pacific/Auckland:20250925T203000
DTSTAMP:20260422T223510
CREATED:20230915T035626Z
LAST-MODIFIED:20250901T203103Z
UID:688-1758828600-1758832200@estuary.org.nz
SUMMARY:Public Meeting
DESCRIPTION:AGM –  MtPleasant Community Centre – 3 McCormacks Bay Road – MtPleasant \n7.30 pm till 8.30pm \nDoors open at 7.15 for refreshments and mingling. \nTopics discussed ; \nReports from Environment Canterbury and the Trust on Water Quality changes over the years plus the results from a recent Scholarship research on saltmarsh plants. \nAll welcome\, no need to book \n  \n  \n 
URL:https://estuary.org.nz/event/public-meeting-agm/
LOCATION:MtPleasant Community Centre\, 3 McCormacks Bay\, Christchurch\, 8062\, New Zealand
CATEGORIES:All Events
ORGANIZER;CN="Estuary Trust":MAILTO:info@estuary.org.nz
END:VEVENT
END:VCALENDAR